BEGIN:VCALENDAR
VERSION:2.0
PRODID:-//Bordtennis Danmark - ECPv6.9.0//NONSGML v1.0//EN
CALSCALE:GREGORIAN
METHOD:PUBLISH
X-ORIGINAL-URL:https://bordtennisdanmark.dk
X-WR-CALDESC:Begivenheder for Bordtennis Danmark
REFRESH-INTERVAL;VALUE=DURATION:PT1H
X-Robots-Tag:noindex
X-PUBLISHED-TTL:PT1H
BEGIN:VTIMEZONE
TZID:UTC
BEGIN:STANDARD
TZOFFSETFROM:+0000
TZOFFSETTO:+0000
TZNAME:UTC
DTSTART:20250101T000000
END:STANDARD
END:VTIMEZONE
BEGIN:VEVENT
DTSTART;VALUE=DATE:20251013
DTEND;VALUE=DATE:20251017
DTSTAMP:20260421T043445
CREATED:20250721T141832Z
LAST-MODIFIED:20250721T141832Z
UID:107459-1760313600-1760659199@bordtennisdanmark.dk
SUMMARY:Perspektivlejr
DESCRIPTION:Perspektivlejr er en lejr med fokus på talentudvikling for U13 og U15-spillere som på nuværende tidspunkt ikke er en del af ungdomslandsholdet men i fremtiden kan være aktuelle i landsholdssammenhæng. Efterårets perspektivlejr afvikles samtidig med landsholdslejren i Tjele\, som der eventuelt også kommer at samarbejdes med.
URL:https://bordtennisdanmark.dk/kalender/perspektivlejr/
LOCATION:Randers\, Denmark
CATEGORIES:11 – Ungdomslandsholdet,5 - Træningslejre, camps & festivaler
ORGANIZER;CN="Bordtennis Danmark":MAILTO:btdk@bordtennisdanmark.dk
END:VEVENT
END:VCALENDAR