BEGIN:VCALENDAR
VERSION:2.0
PRODID:-//Bordtennis Danmark - ECPv6.9.0//NONSGML v1.0//EN
CALSCALE:GREGORIAN
METHOD:PUBLISH
X-WR-CALNAME:Bordtennis Danmark
X-ORIGINAL-URL:https://bordtennisdanmark.dk
X-WR-CALDESC:Begivenheder for Bordtennis Danmark
REFRESH-INTERVAL;VALUE=DURATION:PT1H
X-Robots-Tag:noindex
X-PUBLISHED-TTL:PT1H
BEGIN:VTIMEZONE
TZID:UTC
BEGIN:STANDARD
TZOFFSETFROM:+0000
TZOFFSETTO:+0000
TZNAME:UTC
DTSTART:20260101T000000
END:STANDARD
END:VTIMEZONE
BEGIN:VEVENT
DTSTART;TZID=UTC:20260513T080000
DTEND;TZID=UTC:20260517T170000
DTSTAMP:20260422T085624
CREATED:20260108T103835Z
LAST-MODIFIED:20260108T103835Z
UID:110757-1778659200-1779037200@bordtennisdanmark.dk
SUMMARY:Europe Youth Series Østrig
DESCRIPTION:Der afvikles et Europe Youth Series-stævne i Stockerau i Østrig mellem d. 13. og 17. maj.
URL:https://bordtennisdanmark.dk/kalender/europe-youth-series-oestrig/
LOCATION:Stockerau\, Østrig
CATEGORIES:11 – Ungdomslandsholdet,6 - Landshold & internationalt
END:VEVENT
BEGIN:VEVENT
DTSTART;TZID=UTC:20260514T080000
DTEND;TZID=UTC:20260517T170000
DTSTAMP:20260422T085624
CREATED:20260108T104135Z
LAST-MODIFIED:20260108T104135Z
UID:110761-1778745600-1779037200@bordtennisdanmark.dk
SUMMARY:Landsholdslejr dame senior og ungdom
DESCRIPTION:Der afvikles en fælles lejr for både dame senior og ungdom i Eslöv\, Sverige\, mellem d. 14. og 17. maj.
URL:https://bordtennisdanmark.dk/kalender/landsholdslejr-dame-senior-og-ungdom/
LOCATION:Eslöv\, Eslöv\, Skåne\, Sweden
CATEGORIES:11 – Ungdomslandsholdet,6 - Landshold & internationalt
END:VEVENT
BEGIN:VEVENT
DTSTART;TZID=UTC:20260522T080000
DTEND;TZID=UTC:20260524T170000
DTSTAMP:20260422T085624
CREATED:20260112T121725Z
LAST-MODIFIED:20260112T121725Z
UID:110773-1779436800-1779642000@bordtennisdanmark.dk
SUMMARY:Landsholdslejr U15 drenge
DESCRIPTION:Landsholdslejr for U15 drenge i Brøndby.
URL:https://bordtennisdanmark.dk/kalender/landsholdslejr-u15-drenge/
LOCATION:Idrættens Hus\, Brøndby\, Brøndby Stadion 20\, Brøndby\, Sjælland\, 2605\, Danmark
CATEGORIES:11 – Ungdomslandsholdet
END:VEVENT
BEGIN:VEVENT
DTSTART;TZID=UTC:20260526T080000
DTEND;TZID=UTC:20260529T170000
DTSTAMP:20260422T085624
CREATED:20260112T122644Z
LAST-MODIFIED:20260112T122644Z
UID:110775-1779782400-1780074000@bordtennisdanmark.dk
SUMMARY:Landsholdslejr i Baden-Würtemberg
DESCRIPTION:Der inviteres spillere fra U15-landsholdene til en lejr i Baden-Würtemberg sammen med spillere fra Baden Würtembergs bordtennisforbund.
URL:https://bordtennisdanmark.dk/kalender/landsholdslejr-i-baden-wurtemberg/
LOCATION:Baden-Würtemberg
CATEGORIES:11 – Ungdomslandsholdet
END:VEVENT
BEGIN:VEVENT
DTSTART;TZID=UTC:20260530T080000
DTEND;TZID=UTC:20260602T170000
DTSTAMP:20260422T085624
CREATED:20260112T123132Z
LAST-MODIFIED:20260112T123132Z
UID:110777-1780128000-1780419600@bordtennisdanmark.dk
SUMMARY:WTT Youth Contender Sandefjord
DESCRIPTION:Der spilles en WTT Youth Contender i Sandefjord i Norge\, med evt. deltagelse for spillere som er blevet udtagne af ansvarlig landstræner.
URL:https://bordtennisdanmark.dk/kalender/wtt-youth-contender-sandefjord/
LOCATION:Sandefjord\, Norge
CATEGORIES:11 – Ungdomslandsholdet,6 - Landshold & internationalt
END:VEVENT
END:VCALENDAR