BEGIN:VCALENDAR
VERSION:2.0
PRODID:-//Bordtennis Danmark - ECPv6.9.0//NONSGML v1.0//EN
CALSCALE:GREGORIAN
METHOD:PUBLISH
X-ORIGINAL-URL:https://bordtennisdanmark.dk
X-WR-CALDESC:Begivenheder for Bordtennis Danmark
REFRESH-INTERVAL;VALUE=DURATION:PT1H
X-Robots-Tag:noindex
X-PUBLISHED-TTL:PT1H
BEGIN:VTIMEZONE
TZID:UTC
BEGIN:STANDARD
TZOFFSETFROM:+0000
TZOFFSETTO:+0000
TZNAME:UTC
DTSTART:20230101T000000
END:STANDARD
END:VTIMEZONE
BEGIN:VEVENT
DTSTART;VALUE=DATE:20231125
DTEND;VALUE=DATE:20231126
DTSTAMP:20260423T232807
CREATED:20230515T073105Z
LAST-MODIFIED:20231030T141723Z
UID:91179-1700870400-1700956799@bordtennisdanmark.dk
SUMMARY:Ungdomsstævnetermin
DESCRIPTION:Få mere information om Ungdomsstævner her.
URL:https://bordtennisdanmark.dk/kalender/ungdomsstaevne-oest-8/
CATEGORIES:(Alle),1 - Stævner,13 - Ungdomsstævner
ATTACH;FMTTYPE=image/jpeg:https://bordtennisdanmark.dk/wp-content/uploads/2022/10/Ungdomsstaevne.jpg
END:VEVENT
BEGIN:VEVENT
DTSTART;TZID=UTC:20231125T093000
DTEND;TZID=UTC:20231125T140000
DTSTAMP:20260423T232807
CREATED:20231102T100106Z
LAST-MODIFIED:20231102T101024Z
UID:94927-1700904600-1700920800@bordtennisdanmark.dk
SUMMARY:Ungdomsstævne 3 - Kreds 1 - Hillerød GI
DESCRIPTION:Læs invitationen længere nede
URL:https://bordtennisdanmark.dk/kalender/ungdomsstaevne-3-kreds-1-hilleroed-gi/
LOCATION:Royal Stage\, Milnersvej 39\, Hillerød\, 3400\, Denmark
CATEGORIES:13 - Ungdomsstævner
ORGANIZER;CN="Hiller%C3%B8d":MAILTO:torsten@voresbordtennis.dk
END:VEVENT
END:VCALENDAR