BEGIN:VCALENDAR
VERSION:2.0
PRODID:-//Bordtennis Danmark - ECPv6.9.0//NONSGML v1.0//EN
CALSCALE:GREGORIAN
METHOD:PUBLISH
X-WR-CALNAME:Bordtennis Danmark
X-ORIGINAL-URL:https://bordtennisdanmark.dk
X-WR-CALDESC:Begivenheder for Bordtennis Danmark
REFRESH-INTERVAL;VALUE=DURATION:PT1H
X-Robots-Tag:noindex
X-PUBLISHED-TTL:PT1H
BEGIN:VTIMEZONE
TZID:UTC
BEGIN:STANDARD
TZOFFSETFROM:+0000
TZOFFSETTO:+0000
TZNAME:UTC
DTSTART:20240101T000000
END:STANDARD
END:VTIMEZONE
BEGIN:VEVENT
DTSTART;TZID=UTC:20241020T123000
DTEND;TZID=UTC:20241020T153000
DTSTAMP:20260421T031834
CREATED:20241008T165254Z
LAST-MODIFIED:20241008T165254Z
UID:102158-1729427400-1729438200@bordtennisdanmark.dk
SUMMARY:Ungdomsstævne 2\, Kreds 5\, Holbæk BTK
DESCRIPTION:Ungdomsstævnerne henvender sig primært til ungdomsspillere\, som er parate til at deltage i rigtige bordtennisstævner med kampe bedst á 3 eller 5 sæt. \nStævnerne er nye spilleres første møde med et rigtigt bordtennisstævne\, hvorfor det primære fokus vil være på at\nlære at være til stævne\, hvordan du opfører dig\, fairplay\, god sportsånd mm. Man vil på dagen danne puljer á 5-8 spillere på baggrund af spillernes rating/niveau. Resultaterne vil i disse stævner blive registreret på Bordtennisportalen. Være opmærksom på\, at der kræves spillerlicens for at deltage i disse stævner. \nBordtennis Danmark uddeler guld-\, sølv- og bronzemedalje til podiet i hver slutspilspulje ved hvert Ungdomsstævne. \n  \nOBS: Mødetid kl. 12:00
URL:https://bordtennisdanmark.dk/kalender/ungdomsstaevne-2-kreds-5-holbaek-btk/
LOCATION:Holbæk Sportsby\, Sports allé\, Holbæk\, 4300\, Danmark
CATEGORIES:13 - Ungdomsstævner
ATTACH;FMTTYPE=image/jpeg:https://bordtennisdanmark.dk/wp-content/uploads/2022/10/Ungdomsstaevne.jpg
ORGANIZER;CN="Bordtennis Danmark":MAILTO:btdk@bordtennisdanmark.dk
END:VEVENT
BEGIN:VEVENT
DTSTART;TZID=UTC:20241026T100000
DTEND;TZID=UTC:20241026T140000
DTSTAMP:20260421T031834
CREATED:20240925T083114Z
LAST-MODIFIED:20240925T083625Z
UID:101738-1729936800-1729951200@bordtennisdanmark.dk
SUMMARY:Ungdomsstævne 2\, Kreds 4\, Brøndby BC
DESCRIPTION:Brøndby BC håndterer ungdomsstævnet selvstændigt under Bordtennis Danmark. \n  \nUngdomsstævnerne henvender sig primært til ungdomsspillere\, som er parate til at deltage i rigtige bordtennisstævner med kampe bedst á 3 eller 5 sæt. \nStævnerne er nye spilleres første møde med et rigtigt bordtennisstævne\, hvorfor det primære fokus vil være på at\nlære at være til stævne\, hvordan du opfører dig\, fairplay\, god sportsånd mm. Man vil på dagen danne puljer á 5-8 spillere på baggrund af spillernes rating/niveau. Resultaterne vil i disse stævner blive registreret på Bordtennisportalen. Være opmærksom på\, at der kræves spillerlicens for at deltage i disse stævner. \n  \nPris: Inkludere deltagelse i alle ungdomsstævner i kredsen for sæson 2024/2025 \n\nFør nytår: kr. 150\nEfter nytår: kr. 75\n\n  \nSpørgsmål vedr. ungdomsstævnet rettes til Michael Ryding\, Michael.ryding@hotmail.com\, 40 90 10 21 \n 
URL:https://bordtennisdanmark.dk/kalender/ungdomsstaevne-2-kreds-4-broendby-bc/
LOCATION:Brøndby Hallen\, Brøndby Stadion 8\, Brøndby\, 2605
CATEGORIES:13 - Ungdomsstævner
ATTACH;FMTTYPE=image/png:https://bordtennisdanmark.dk/wp-content/uploads/2021/03/Greve-Broendby.png
END:VEVENT
END:VCALENDAR