BEGIN:VCALENDAR
VERSION:2.0
PRODID:-//Bordtennis Danmark - ECPv6.9.0//NONSGML v1.0//EN
CALSCALE:GREGORIAN
METHOD:PUBLISH
X-WR-CALNAME:Bordtennis Danmark
X-ORIGINAL-URL:https://bordtennisdanmark.dk
X-WR-CALDESC:Begivenheder for Bordtennis Danmark
REFRESH-INTERVAL;VALUE=DURATION:PT1H
X-Robots-Tag:noindex
X-PUBLISHED-TTL:PT1H
BEGIN:VTIMEZONE
TZID:UTC
BEGIN:STANDARD
TZOFFSETFROM:+0000
TZOFFSETTO:+0000
TZNAME:UTC
DTSTART:20240101T000000
END:STANDARD
END:VTIMEZONE
BEGIN:VEVENT
DTSTART;TZID=UTC:20241116T093000
DTEND;TZID=UTC:20241116T163000
DTSTAMP:20260421T013911
CREATED:20240625T130243Z
LAST-MODIFIED:20241001T123230Z
UID:99667-1731749400-1731774600@bordtennisdanmark.dk
SUMMARY:Girls Open i samarbejde med Amager BTK
DESCRIPTION:I stedet for A-rækken afholdes ”Girls Open”:\nKoncept: Spillerne inddeles i grupper på 7-9 spillere ud fra aktuel rating. De 7-9 højest ratede i\nsamme gruppe\, de næste 7-9 i næste gruppe osv. så alle får så lige kampe som muligt. I\ngrupperne spiller alle mod alle. \nPræmier: Der er præmier til nr. 1\, 2 og 3 i hver pulje. Der spilles bedst af 5 sæt og kampene\ntæller med på ratinglisten. \nHvem kan deltage: Alle piger der er ungdomsspillere (fra puslinge til U21) med et maximum\nrating på 1700 ved tilmelding. \nRatingopdatering: Fra den 8. november er gældende. \nTilmeldingsgebyr: 150\,- plus microgebyr. \nTilmelding senest: 9. november på bordtennisportalen \nMødetid: Senest 9.30 – Det er muligt at komme ind i hallen fra kl. 8.
URL:https://bordtennisdanmark.dk/kalender/girls-open-i-samarbejde-med-amager-btk/
LOCATION:Amagerhallen\, Løjtegårdsvej 64\, Kastrup\, Sjælland\, 2770\, Danmark
CATEGORIES:10 - Pigeindsats,12 - Begynderstævner,13 - Ungdomsstævner
ATTACH;FMTTYPE=image/jpeg:https://bordtennisdanmark.dk/wp-content/uploads/2022/03/Pigeindsats.jpg
END:VEVENT
BEGIN:VEVENT
DTSTART;TZID=UTC:20241117T090000
DTEND;TZID=UTC:20241117T140000
DTSTAMP:20260421T013911
CREATED:20241003T132021Z
LAST-MODIFIED:20241003T132021Z
UID:101896-1731834000-1731852000@bordtennisdanmark.dk
SUMMARY:Ungdomsstævne 1\, Kreds 3\, Hvidovre Bordtennis
DESCRIPTION:Ungdomsstævnerne henvender sig primært til ungdomsspillere\, som er parate til at deltage i rigtige bordtennisstævner med kampe bedst á 3 eller 5 sæt. \nStævnerne er nye spilleres første møde med et rigtigt bordtennisstævne\, hvorfor det primære fokus vil være på at\nlære at være til stævne\, hvordan du opfører dig\, fairplay\, god sportsånd mm. Man vil på dagen danne puljer á 5-8 spillere på baggrund af spillernes rating/niveau. Resultaterne vil i disse stævner blive registreret på Bordtennisportalen. Være opmærksom på\, at der kræves spillerlicens for at deltage i disse stævner. \nBordtennis Danmark uddeler guld-\, sølv- og bronzemedalje til podiet i hver slutspilspulje ved hvert Ungdomsstævne. \n  \nOBS: Mødetid senest kl. 08:30
URL:https://bordtennisdanmark.dk/kalender/ungdomsstaevne-1-kreds-3-hvidovre-bordtennis/
LOCATION:Dansborghallen\, Sollentuna Alle 2\, Hvidovre\, Sjælland\, 2650\, Danmark
CATEGORIES:13 - Ungdomsstævner
ATTACH;FMTTYPE=image/jpeg:https://bordtennisdanmark.dk/wp-content/uploads/2022/10/Ungdomsstaevne.jpg
ORGANIZER;CN="Bordtennis Danmark":MAILTO:btdk@bordtennisdanmark.dk
END:VEVENT
BEGIN:VEVENT
DTSTART;TZID=UTC:20241123T100000
DTEND;TZID=UTC:20241123T130000
DTSTAMP:20260421T013911
CREATED:20240909T101219Z
LAST-MODIFIED:20241105T121942Z
UID:101230-1732356000-1732366800@bordtennisdanmark.dk
SUMMARY:Ungdomsstævne 2\, Kreds 1\, Allerød Bordtennisklub
DESCRIPTION:Kredsen har fra sæsonens start besluttet at lægge Bordtennis Danmarks Begynderstævne og Ungdomsstævne koncepter sammen i ét stævne\, så ALLE helt nye og let-øvede spillere kan være med. Stævnet afvikles med udgangspunkt i Bordtennis Danmarks Ungdomsstævnekoncept. Bemærk at ungdomsspillere fra denne sæson skal have indløst en spillerlicens\, inden de kan deltage i et ungdomsstævne. \nUngdomsstævnerne henvender sig primært til ungdomsspillere\, som er parate til at deltage i rigtige bordtennisstævner med kampe bedst á 3 eller 5 sæt. \nStævnerne er nye spilleres første møde med et rigtigt bordtennisstævne\, hvorfor det primære fokus vil være på at\nlære at være til stævne\, hvordan du opfører dig\, fairplay\, god sportsånd mm. Man vil på dagen danne puljer á 5-8 spillere på baggrund af spillernes rating/niveau. Resultaterne vil i disse stævner blive registreret på Bordtennisportalen. \nBordtennis Danmark uddeler guld-\, sølv- og bronzemedalje til podiet i hver slutspilspulje ved hvert Ungdomsstævne. Da Begynder- og Ungdomsstævner i Kreds 1 er lagt sammen\, modtager ALLE øvrige også en anerkendelse fra BTDK. \n  \nOBS: Mødetid kl. 09.30
URL:https://bordtennisdanmark.dk/kalender/ungdomsstaevne-2-kreds-1-alleroed-bordtennisklub/
LOCATION:Lillerødhallerne\, Banevang 7\, Lillerød\, 3450\, Danmark
CATEGORIES:13 - Ungdomsstævner
ATTACH;FMTTYPE=image/jpeg:https://bordtennisdanmark.dk/wp-content/uploads/2022/10/Ungdomsstaevne.jpg
ORGANIZER;CN="Bordtennis Danmark":MAILTO:btdk@bordtennisdanmark.dk
END:VEVENT
BEGIN:VEVENT
DTSTART;TZID=UTC:20241124T100000
DTEND;TZID=UTC:20241124T130000
DTSTAMP:20260421T013911
CREATED:20250106T110734Z
LAST-MODIFIED:20250106T110734Z
UID:103268-1732442400-1732453200@bordtennisdanmark.dk
SUMMARY:Ungdomsstævne 1\, Kreds 6\, Næstved Bordtennis
DESCRIPTION:Ungdomsstævnerne henvender sig primært til ungdomsspillere\, som er parate til at deltage i rigtige bordtennisstævner med kampe bedst á 3 eller 5 sæt. \nStævnerne er nye spilleres første møde med et rigtigt bordtennisstævne\, hvorfor det primære fokus vil være på at\nlære at være til stævne\, hvordan du opfører dig\, fairplay\, god sportsånd mm. Man vil på dagen danne puljer á 5-8 spillere på baggrund af spillernes rating/niveau. Resultaterne vil i disse stævner blive registreret på Bordtennisportalen. Være opmærksom på\, at der kræves spillerlicens for at deltage i disse stævner. \nBordtennis Danmark uddeler guld-\, sølv- og bronzemedalje til podiet i hver slutspilspulje ved hvert Ungdomsstævne. \n  \nOBS: Mødetid kl. 9:30
URL:https://bordtennisdanmark.dk/kalender/ungdomsstaevne-1-kreds-6-naestved-bordtennis-2/
LOCATION:Mærk Næstved Hallen\, Toksværd Bygade 43\, Holmegaard\, 4684\, Danmark
CATEGORIES:13 - Ungdomsstævner
ATTACH;FMTTYPE=image/jpeg:https://bordtennisdanmark.dk/wp-content/uploads/2022/10/Ungdomsstaevne.jpg
ORGANIZER;CN="Bordtennis Danmark":MAILTO:btdk@bordtennisdanmark.dk
END:VEVENT
BEGIN:VEVENT
DTSTART;TZID=UTC:20241124T123000
DTEND;TZID=UTC:20241124T153000
DTSTAMP:20260421T013911
CREATED:20241020T151741Z
LAST-MODIFIED:20241020T151741Z
UID:102272-1732451400-1732462200@bordtennisdanmark.dk
SUMMARY:Ungdomsstævne 1\, Kreds 6\, Næstved Bordtennis
DESCRIPTION:Ungdomsstævnerne henvender sig primært til ungdomsspillere\, som er parate til at deltage i rigtige bordtennisstævner med kampe bedst á 3 eller 5 sæt. \nStævnerne er nye spilleres første møde med et rigtigt bordtennisstævne\, hvorfor det primære fokus vil være på at\nlære at være til stævne\, hvordan du opfører dig\, fairplay\, god sportsånd mm. Man vil på dagen danne puljer á 5-8 spillere på baggrund af spillernes rating/niveau. Resultaterne vil i disse stævner blive registreret på Bordtennisportalen. Være opmærksom på\, at der kræves spillerlicens for at deltage i disse stævner. \nBordtennis Danmark uddeler guld-\, sølv- og bronzemedalje til podiet i hver slutspilspulje ved hvert Ungdomsstævne. \n  \nOBS: Mødetid kl. 12:00
URL:https://bordtennisdanmark.dk/kalender/ungdomsstaevne-1-kreds-6-naestved-bordtennis/
LOCATION:Mærk Næstved Hallen\, Toksværd Bygade 43\, Holmegaard\, 4684\, Danmark
CATEGORIES:13 - Ungdomsstævner
ATTACH;FMTTYPE=image/jpeg:https://bordtennisdanmark.dk/wp-content/uploads/2022/10/Ungdomsstaevne.jpg
ORGANIZER;CN="Bordtennis Danmark":MAILTO:btdk@bordtennisdanmark.dk
END:VEVENT
END:VCALENDAR