BEGIN:VCALENDAR
VERSION:2.0
PRODID:-//Bordtennis Danmark - ECPv6.9.0//NONSGML v1.0//EN
CALSCALE:GREGORIAN
METHOD:PUBLISH
X-ORIGINAL-URL:https://bordtennisdanmark.dk
X-WR-CALDESC:Begivenheder for Bordtennis Danmark
REFRESH-INTERVAL;VALUE=DURATION:PT1H
X-Robots-Tag:noindex
X-PUBLISHED-TTL:PT1H
BEGIN:VTIMEZONE
TZID:UTC
BEGIN:STANDARD
TZOFFSETFROM:+0000
TZOFFSETTO:+0000
TZNAME:UTC
DTSTART:20240101T000000
END:STANDARD
END:VTIMEZONE
BEGIN:VEVENT
DTSTART;TZID=UTC:20241201T123000
DTEND;TZID=UTC:20241201T153000
DTSTAMP:20260420T235539
CREATED:20241031T184444Z
LAST-MODIFIED:20241031T184723Z
UID:102393-1733056200-1733067000@bordtennisdanmark.dk
SUMMARY:Ungdomsstævne 1\, Kreds 5\, Lejre Bordtennis
DESCRIPTION:Ungdomsstævnerne henvender sig primært til ungdomsspillere\, som er parate til at deltage i rigtige bordtennisstævner med kampe bedst á 3 eller 5 sæt. \nStævnerne er nye spilleres første møde med et rigtigt bordtennisstævne\, hvorfor det primære fokus vil være på at\nlære at være til stævne\, hvordan du opfører dig\, fairplay\, god sportsånd mm. Man vil på dagen danne puljer á 5-8 spillere på baggrund af spillernes rating/niveau. Resultaterne vil i disse stævner blive registreret på Bordtennisportalen. Være opmærksom på\, at der kræves spillerlicens for at deltage i disse stævner. \nBordtennis Danmark uddeler guld-\, sølv- og bronzemedalje til podiet i hver slutspilspulje ved hvert Ungdomsstævne. \n  \nOBS: Mødetid kl. 12:00
URL:https://bordtennisdanmark.dk/kalender/ungdomsstaevne-1-kreds-5-lejre-bordtennis-2/
LOCATION:Lejrehallen\, Bispegårdsvej 2\, Lejre\, 4320\, Danmark
CATEGORIES:13 - Ungdomsstævner
ATTACH;FMTTYPE=image/jpeg:https://bordtennisdanmark.dk/wp-content/uploads/2022/10/Ungdomsstaevne.jpg
ORGANIZER;CN="Bordtennis Danmark":MAILTO:btdk@bordtennisdanmark.dk
END:VEVENT
BEGIN:VEVENT
DTSTART;TZID=UTC:20241214T100000
DTEND;TZID=UTC:20241214T140000
DTSTAMP:20260420T235539
CREATED:20240925T082622Z
LAST-MODIFIED:20240925T083543Z
UID:101734-1734170400-1734184800@bordtennisdanmark.dk
SUMMARY:Ungdomsstævne 3\, Kreds 4\, Greve Bordtennis
DESCRIPTION:Greve Bordtennis håndterer ungdomsstævnet selvstændigt under Bordtennis Danmark. \n  \nUngdomsstævnerne henvender sig primært til ungdomsspillere\, som er parate til at deltage i rigtige bordtennisstævner med kampe bedst á 3 eller 5 sæt. \nStævnerne er nye spilleres første møde med et rigtigt bordtennisstævne\, hvorfor det primære fokus vil være på at\nlære at være til stævne\, hvordan du opfører dig\, fairplay\, god sportsånd mm. Man vil på dagen danne puljer á 5-8 spillere på baggrund af spillernes rating/niveau. Resultaterne vil i disse stævner blive registreret på Bordtennisportalen. Være opmærksom på\, at der kræves spillerlicens for at deltage i disse stævner. \n  \nPris: Inkludere deltagelse i alle ungdomsstævner i kredsen for sæson 2024/2025 \n\nFør nytår: kr. 150\nEfter nytår: kr. 75\n\n  \nSpørgsmål vedr. ungdomsstævnet rettes til Preben Larsen\, preben@greve-btk.dk\, 29 63 16 67 \n 
URL:https://bordtennisdanmark.dk/kalender/ungdomsstaevne-3-kreds-4-greve-bordtennis/
LOCATION:Greve Bordtennis – Greve Idræts- og Fritidscenter\, Lillevangsvej 88\, Greve\, 2670\, Danmark
CATEGORIES:13 - Ungdomsstævner
ATTACH;FMTTYPE=image/png:https://bordtennisdanmark.dk/wp-content/uploads/2021/03/Greve-Broendby.png
END:VEVENT
END:VCALENDAR