BEGIN:VCALENDAR
VERSION:2.0
PRODID:-//Bordtennis Danmark - ECPv6.9.0//NONSGML v1.0//EN
CALSCALE:GREGORIAN
METHOD:PUBLISH
X-WR-CALNAME:Bordtennis Danmark
X-ORIGINAL-URL:https://bordtennisdanmark.dk
X-WR-CALDESC:Begivenheder for Bordtennis Danmark
REFRESH-INTERVAL;VALUE=DURATION:PT1H
X-Robots-Tag:noindex
X-PUBLISHED-TTL:PT1H
BEGIN:VTIMEZONE
TZID:UTC
BEGIN:STANDARD
TZOFFSETFROM:+0000
TZOFFSETTO:+0000
TZNAME:UTC
DTSTART:20250101T000000
END:STANDARD
END:VTIMEZONE
BEGIN:VEVENT
DTSTART;TZID=UTC:20250111T100000
DTEND;TZID=UTC:20250111T140000
DTSTAMP:20260420T223001
CREATED:20250106T133046Z
LAST-MODIFIED:20250106T133046Z
UID:103299-1736589600-1736604000@bordtennisdanmark.dk
SUMMARY:Ungdomsstævne 4\, Kreds 4\, Brøndby BC
DESCRIPTION:Brøndby BC håndterer ungdomsstævnet selvstændigt under Bordtennis Danmark. \n  \nUngdomsstævnerne henvender sig primært til ungdomsspillere\, som er parate til at deltage i rigtige bordtennisstævner med kampe bedst á 3 eller 5 sæt. \nStævnerne er nye spilleres første møde med et rigtigt bordtennisstævne\, hvorfor det primære fokus vil være på at\nlære at være til stævne\, hvordan du opfører dig\, fairplay\, god sportsånd mm. Man vil på dagen danne puljer á 5-8 spillere på baggrund af spillernes rating/niveau. Resultaterne vil i disse stævner blive registreret på Bordtennisportalen. Være opmærksom på\, at der kræves spillerlicens for at deltage i disse stævner. \n  \nPris: Inkludere deltagelse i alle ungdomsstævner i kredsen for sæson 2024/2025 \n\nFør nytår: kr. 150\nEfter nytår: kr. 75\n\n  \nSpørgsmål vedr. ungdomsstævnet rettes til Michael Ryding\, Michael.ryding@hotmail.com\, 40 90 10 21 \n 
URL:https://bordtennisdanmark.dk/kalender/ungdomsstaevne-4-kreds-4-broendby-bc/
LOCATION:Brøndby Hallen\, Brøndby Stadion 8\, Brøndby\, 2605
CATEGORIES:13 - Ungdomsstævner
ATTACH;FMTTYPE=image/png:https://bordtennisdanmark.dk/wp-content/uploads/2021/03/Greve-Broendby.png
END:VEVENT
BEGIN:VEVENT
DTSTART;TZID=UTC:20250111T100000
DTEND;TZID=UTC:20250111T163000
DTSTAMP:20260420T223001
CREATED:20241209T092429Z
LAST-MODIFIED:20250106T110903Z
UID:102685-1736589600-1736613000@bordtennisdanmark.dk
SUMMARY:Allerød All Girls Super Cup 2025
DESCRIPTION:Allerød Bordtennisklub inviterer i samarbejde med Bordtennis Danmark til en spændende dag fyldt med bordtennis for piger\, hvor alle spillere får mulighed for at spille mod jævnbyrdige modstandere. \n\nSpillere inddeles i grupper á 7-9 deltagere baseret på aktuel rating (ratingopdatering fra 3. januar er gældende).\nHver gruppe spiller “alle mod alle”.\nKampene tæller med på ratinglisten.\n\nPræmier:\nDer er præmier til nr. 1\, 2 og 3 i hver gruppe. \nSpilformat: \n\nDer spilles til 11 point\, bedst af 5 sæt.\n\nHvem kan deltage? \n\nPiger med BTDK-licens fra puslinge til U21 med en maks. rating på 1700 ved tilmelding.\n\nTilmeldingsgebyr: \n\n125\,- kr. + mikrogebyr på 11\,- kr.\nSidste frist for tilmelding: En uge før kampdagen\, lørdag den 4. januar\, via Bordtennisportalen.\n\nMødetid og praktisk info: \n\nMød senest kl. 9.30. Hallen åbner kl. 8.30.\nDet er ikke tilladt at spise medbragt mad i cafeteriaet i Lillerød Hallerne.\n\nKontakt:\nVed spørgsmål om konceptet\, kontakt Lars Eckeroth på mail: larseckeroth@gmail.com. \nVelkommen til en fantastisk dag!\nAllerød Bordtennisklub og Bordtennis Danmark glæder sig til at byde jer velkommen til en dag fyldt med god stemning og jævnbyrdige kampe. \nMed venlig hilsen\nAllerød Bordtennisklub & Bordtennis Danmark
URL:https://bordtennisdanmark.dk/kalender/alleroed-all-girls-super-cup-2025/
LOCATION:Lillerødhallerne\, Banevang 7\, Lillerød\, 3450\, Danmark
CATEGORIES:10 - Pigeindsats,13 - Ungdomsstævner
ATTACH;FMTTYPE=image/png:https://bordtennisdanmark.dk/wp-content/uploads/2024/12/Alleroed-Girls-Open.png
END:VEVENT
BEGIN:VEVENT
DTSTART;TZID=UTC:20250112T123000
DTEND;TZID=UTC:20250112T153000
DTSTAMP:20260420T223001
CREATED:20241218T114815Z
LAST-MODIFIED:20241218T115211Z
UID:102998-1736685000-1736695800@bordtennisdanmark.dk
SUMMARY:Ungdomsstævne 4\, Kreds 5\, Holbæk BTK
DESCRIPTION:Ungdomsstævnerne henvender sig primært til ungdomsspillere\, som er parate til at deltage i rigtige bordtennisstævner med kampe bedst á 3 eller 5 sæt. \nStævnerne er nye spilleres første møde med et rigtigt bordtennisstævne\, hvorfor det primære fokus vil være på at\nlære at være til stævne\, hvordan du opfører dig\, fairplay\, god sportsånd mm. Man vil på dagen danne puljer á 5-8 spillere på baggrund af spillernes rating/niveau. Resultaterne vil i disse stævner blive registreret på Bordtennisportalen. Være opmærksom på\, at der kræves spillerlicens for at deltage i disse stævner. \nBordtennis Danmark uddeler guld-\, sølv- og bronzemedalje til podiet i hver slutspilspulje ved hvert Ungdomsstævne. \n  \nOBS: Mødetid kl. 12:00
URL:https://bordtennisdanmark.dk/kalender/ungdomsstaevne-4-kreds-5-holbaek-btk/
LOCATION:Holbæk Sportsby\, Sports allé\, Holbæk\, 4300\, Danmark
CATEGORIES:13 - Ungdomsstævner
ATTACH;FMTTYPE=image/jpeg:https://bordtennisdanmark.dk/wp-content/uploads/2022/10/Ungdomsstaevne.jpg
ORGANIZER;CN="Bordtennis Danmark":MAILTO:btdk@bordtennisdanmark.dk
END:VEVENT
BEGIN:VEVENT
DTSTART;TZID=UTC:20250118T110000
DTEND;TZID=UTC:20250118T140000
DTSTAMP:20260420T223001
CREATED:20240909T101644Z
LAST-MODIFIED:20241210T110229Z
UID:101233-1737198000-1737208800@bordtennisdanmark.dk
SUMMARY:Ungdomsstævne 3\, Kreds 1\, Espergærde TTC
DESCRIPTION:Kredsen har fra sæsonens start besluttet at lægge Bordtennis Danmarks Begynderstævne og Ungdomsstævne koncepter sammen i ét stævne\, så ALLE helt nye og let-øvede spillere kan være med. Stævnet afvikles med udgangspunkt i Bordtennis Danmarks Ungdomsstævnekoncept. Bemærk at ungdomsspillere fra denne sæson skal have indløst en spillerlicens\, inden de kan deltage i et ungdomsstævne. \nUngdomsstævnerne henvender sig primært til ungdomsspillere\, som er parate til at deltage i rigtige bordtennisstævner med kampe bedst á 3 eller 5 sæt. \nStævnerne er nye spilleres første møde med et rigtigt bordtennisstævne\, hvorfor det primære fokus vil være på at\nlære at være til stævne\, hvordan du opfører dig\, fairplay\, god sportsånd mm. Man vil på dagen danne puljer á 5-8 spillere på baggrund af spillernes rating/niveau. Resultaterne vil i disse stævner blive registreret på Bordtennisportalen. \nBordtennis Danmark uddeler guld-\, sølv- og bronzemedalje til podiet i hver slutspilspulje ved hvert Ungdomsstævne. Da Begynder- og Ungdomsstævner i Kreds 1 er lagt sammen\, modtager ALLE øvrige også en anerkendelse fra BTDK. \n  \nOBS: Mødetid kl. 10.30
URL:https://bordtennisdanmark.dk/kalender/ungdomsstaevne-3-kreds-1-espergaerde-ttc/
LOCATION:Hallen på Espergærde Gymnasium\, Gymnasievej 2\, Espergærde\, 3060\, Danmark
CATEGORIES:13 - Ungdomsstævner
ATTACH;FMTTYPE=image/jpeg:https://bordtennisdanmark.dk/wp-content/uploads/2022/10/Ungdomsstaevne.jpg
ORGANIZER;CN="Bordtennis Danmark":MAILTO:btdk@bordtennisdanmark.dk
END:VEVENT
BEGIN:VEVENT
DTSTART;TZID=UTC:20250119T100000
DTEND;TZID=UTC:20250119T140000
DTSTAMP:20260420T223001
CREATED:20241003T132553Z
LAST-MODIFIED:20241003T132553Z
UID:101900-1737280800-1737295200@bordtennisdanmark.dk
SUMMARY:Ungdomsstævne 2\, Kreds 3\, Dragør BTK
DESCRIPTION:Ungdomsstævnerne henvender sig primært til ungdomsspillere\, som er parate til at deltage i rigtige bordtennisstævner med kampe bedst á 3 eller 5 sæt. \nStævnerne er nye spilleres første møde med et rigtigt bordtennisstævne\, hvorfor det primære fokus vil være på at\nlære at være til stævne\, hvordan du opfører dig\, fairplay\, god sportsånd mm. Man vil på dagen danne puljer á 5-8 spillere på baggrund af spillernes rating/niveau. Resultaterne vil i disse stævner blive registreret på Bordtennisportalen. Være opmærksom på\, at der kræves spillerlicens for at deltage i disse stævner. \nBordtennis Danmark uddeler guld-\, sølv- og bronzemedalje til podiet i hver slutspilspulje ved hvert Ungdomsstævne. \n  \nOBS: Mødetid senest kl. 09:30
URL:https://bordtennisdanmark.dk/kalender/ungdomsstaevne-2-kreds-3-dragoer-btk/
LOCATION:Hollænderhallen\, Halvejen 3\, Dragør\, Sjælland\, 2791\, Danmark
CATEGORIES:13 - Ungdomsstævner
ATTACH;FMTTYPE=image/jpeg:https://bordtennisdanmark.dk/wp-content/uploads/2022/10/Ungdomsstaevne.jpg
ORGANIZER;CN="Bordtennis Danmark":MAILTO:btdk@bordtennisdanmark.dk
END:VEVENT
BEGIN:VEVENT
DTSTART;TZID=UTC:20250125T110000
DTEND;TZID=UTC:20250125T150000
DTSTAMP:20260420T223001
CREATED:20250113T121543Z
LAST-MODIFIED:20250123T130212Z
UID:103412-1737802800-1737817200@bordtennisdanmark.dk
SUMMARY:Gratis Ungdomsstævne 25/1-2025 for alle under 18 år i Nyk. Falster
DESCRIPTION:Både begyndere\, lidt øvede og rutinerede ungdomsspillere kan deltage helt gratis og møde andre unde på samme niveau. \nVi opdeler i 3 singlerækker efter forventet styrke og der er ikke krav om rating og ej heller nogen registrering af rating. \nDer er pæne brugsting og medaljer som præmier. \n  \nLæs mere i indbydelse her
URL:https://bordtennisdanmark.dk/kalender/gratis-ungdomsstaevne-25-1-2025-for-alle-under-18-aar-i-nyk-falster/
LOCATION:Nykøbing Falster Hallen\, Nørre Boulevard 4A\, Nykøbing Falster\, 4800
CATEGORIES:12 - Begynderstævner,13 - Ungdomsstævner
END:VEVENT
END:VCALENDAR