BEGIN:VCALENDAR
VERSION:2.0
PRODID:-//Bordtennis Danmark - ECPv6.9.0//NONSGML v1.0//EN
CALSCALE:GREGORIAN
METHOD:PUBLISH
X-WR-CALNAME:Bordtennis Danmark
X-ORIGINAL-URL:https://bordtennisdanmark.dk
X-WR-CALDESC:Begivenheder for Bordtennis Danmark
REFRESH-INTERVAL;VALUE=DURATION:PT1H
X-Robots-Tag:noindex
X-PUBLISHED-TTL:PT1H
BEGIN:VTIMEZONE
TZID:UTC
BEGIN:STANDARD
TZOFFSETFROM:+0000
TZOFFSETTO:+0000
TZNAME:UTC
DTSTART:20250101T000000
END:STANDARD
END:VTIMEZONE
BEGIN:VEVENT
DTSTART;TZID=UTC:20250412T100000
DTEND;TZID=UTC:20250412T130000
DTSTAMP:20260420T130317
CREATED:20250302T173824Z
LAST-MODIFIED:20250302T173824Z
UID:104696-1744452000-1744462800@bordtennisdanmark.dk
SUMMARY:Ungdomsstævne 6\, Kreds 1\, Allerød Bordtennisklub
DESCRIPTION:Ved Bordtennis Danmarks Ungdomsstævner i kreds 1 kan ALLE helt NYE og LET ØVEDE spillere være med. Du vil til stævnet kunne opleve kamptræning\, socialt samvær og hygge\, med jævnbyrdige spillere fra en hel række af Nordsjællandske klubber. Ungdomsstævnerne henvender sig primært til ungdomsspillere\, som er parate til at deltage i rigtige bordtennisstævner med kampe bedst á 3 eller 5 sæt. \nStævnerne er ofte nye spilleres første møde med et rigtigt bordtennisstævne\, hvorfor det primære fokus vil være på at lære at være til stævne\, hvordan du opfører dig\, fairplay\, god sportsånd mm. Man vil på dagen danne puljer á 5-8 spillere på baggrund af spillernes rating/niveau. Resultaterne vil så bagefter blive registreret på Bordtennisportalen. \nBordtennis Danmark uddeler guld-\, sølv- og bronzemedalje til podiet i hver slutspilspulje ved hvert Ungdomsstævne\, og ALLE øvrige spillere modtager en fin ‘deltagermedalje’ fra Bordtennis Danmark \n  \nOBS: Mødetid kl. 09.30
URL:https://bordtennisdanmark.dk/kalender/ungdomsstaevne-6-kreds-1-alleroed-bordtennisklub/
LOCATION:Lillerødhallerne\, Banevang 7\, Lillerød\, 3450\, Danmark
CATEGORIES:13 - Ungdomsstævner
ATTACH;FMTTYPE=image/png:https://bordtennisdanmark.dk/wp-content/uploads/2025/01/Ungdomsstaevne.png
ORGANIZER;CN="Bordtennis Danmark":MAILTO:btdk@bordtennisdanmark.dk
END:VEVENT
BEGIN:VEVENT
DTSTART;TZID=UTC:20250426T100000
DTEND;TZID=UTC:20250426T140000
DTSTAMP:20260420T130317
CREATED:20250106T133436Z
LAST-MODIFIED:20250106T133436Z
UID:103305-1745661600-1745676000@bordtennisdanmark.dk
SUMMARY:Ungdomsstævne 6\, Kreds 4\, Brøndby BC
DESCRIPTION:Brøndby BC håndterer ungdomsstævnet selvstændigt under Bordtennis Danmark. \n  \nUngdomsstævnerne henvender sig primært til ungdomsspillere\, som er parate til at deltage i rigtige bordtennisstævner med kampe bedst á 3 eller 5 sæt. \nStævnerne er nye spilleres første møde med et rigtigt bordtennisstævne\, hvorfor det primære fokus vil være på at\nlære at være til stævne\, hvordan du opfører dig\, fairplay\, god sportsånd mm. Man vil på dagen danne puljer á 5-8 spillere på baggrund af spillernes rating/niveau. Resultaterne vil i disse stævner blive registreret på Bordtennisportalen. Være opmærksom på\, at der kræves spillerlicens for at deltage i disse stævner. \n  \nPris: Inkludere deltagelse i alle ungdomsstævner i kredsen for sæson 2024/2025 \n\nFør nytår: kr. 150\nEfter nytår: kr. 75\n\n  \nSpørgsmål vedr. ungdomsstævnet rettes til Michael Ryding\, Michael.ryding@hotmail.com\, 40 90 10 21 \n 
URL:https://bordtennisdanmark.dk/kalender/ungdomsstaevne-6-kreds-4-broendby-bc-2/
LOCATION:Brøndby Hallen\, Brøndby Stadion 8\, Brøndby\, 2605
CATEGORIES:13 - Ungdomsstævner
ATTACH;FMTTYPE=image/png:https://bordtennisdanmark.dk/wp-content/uploads/2021/03/Greve-Broendby.png
END:VEVENT
END:VCALENDAR