BEGIN:VCALENDAR
VERSION:2.0
PRODID:-//Bordtennis Danmark - ECPv6.9.0//NONSGML v1.0//EN
CALSCALE:GREGORIAN
METHOD:PUBLISH
X-ORIGINAL-URL:https://bordtennisdanmark.dk
X-WR-CALDESC:Begivenheder for Bordtennis Danmark
REFRESH-INTERVAL;VALUE=DURATION:PT1H
X-Robots-Tag:noindex
X-PUBLISHED-TTL:PT1H
BEGIN:VTIMEZONE
TZID:UTC
BEGIN:STANDARD
TZOFFSETFROM:+0000
TZOFFSETTO:+0000
TZNAME:UTC
DTSTART:20250101T000000
END:STANDARD
END:VTIMEZONE
BEGIN:VEVENT
DTSTART;TZID=UTC:20250517T093000
DTEND;TZID=UTC:20250517T170000
DTSTAMP:20260420T100830
CREATED:20240625T130623Z
LAST-MODIFIED:20250130T131729Z
UID:99669-1747474200-1747501200@bordtennisdanmark.dk
SUMMARY:Girls Open (Jylland)
DESCRIPTION:I stedet for A-rækken afholdes ”Girls Open”: \n(Girls Open afvikles med inspiration fra formatet til ”Amager/Greves Pigekampdag”): Spillerne inddeles i grupper ud fra aktuel rating. De højest ratede i samme gruppe\, de næst højeste i den næste gruppe osv. så alle får så lige kampe som muligt. I grupperne spiller alle mod alle. Der er præmier til nr. 1\, 2 og 3 i hver pulje. Der spilles bedst af 5 sæt. Piger med 1700 rating og under inviteres. (Det vil sige\, at tidligere B-række piger også kan deltage). \n  \n(Invitation kommer)
URL:https://bordtennisdanmark.dk/kalender/girls-open-jylland/
CATEGORIES:10 - Pigeindsats,12 - Begynderstævner,13 - Ungdomsstævner
ATTACH;FMTTYPE=image/png:https://bordtennisdanmark.dk/wp-content/uploads/2024/06/Girls-open.png
END:VEVENT
BEGIN:VEVENT
DTSTART;TZID=UTC:20250525T100000
DTEND;TZID=UTC:20250525T140000
DTSTAMP:20260420T100830
CREATED:20241003T133030Z
LAST-MODIFIED:20250130T130335Z
UID:101906-1748167200-1748181600@bordtennisdanmark.dk
SUMMARY:Ungdomsstævne 5\, Kreds 3\, Amager BTK
DESCRIPTION:Ungdomsstævnerne henvender sig primært til ungdomsspillere\, som er parate til at deltage i rigtige bordtennisstævner med kampe bedst á 3 eller 5 sæt. \nStævnerne er nye spilleres første møde med et rigtigt bordtennisstævne\, hvorfor det primære fokus vil være på at\nlære at være til stævne\, hvordan du opfører dig\, fairplay\, god sportsånd mm. Man vil på dagen danne puljer á 5-8 spillere på baggrund af spillernes rating/niveau. Resultaterne vil i disse stævner blive registreret på Bordtennisportalen. Være opmærksom på\, at der kræves spillerlicens for at deltage i disse stævner. \nBordtennis Danmark uddeler guld-\, sølv- og bronzemedalje til podiet i hver slutspilspulje ved hvert Ungdomsstævne. \n  \nOBS: Mødetid senest kl. 09:30
URL:https://bordtennisdanmark.dk/kalender/ungdomsstaevne-5-kreds-3-amager-btk/
LOCATION:Amagerhallen\, Løjtegårdsvej 64\, Kastrup\, Sjælland\, 2770\, Danmark
CATEGORIES:13 - Ungdomsstævner
ATTACH;FMTTYPE=image/png:https://bordtennisdanmark.dk/wp-content/uploads/2025/01/Ungdomsstaevne.png
ORGANIZER;CN="Bordtennis Danmark":MAILTO:btdk@bordtennisdanmark.dk
END:VEVENT
END:VCALENDAR