BEGIN:VCALENDAR
VERSION:2.0
PRODID:-//Bordtennis Danmark - ECPv6.9.0//NONSGML v1.0//EN
CALSCALE:GREGORIAN
METHOD:PUBLISH
X-WR-CALNAME:Bordtennis Danmark
X-ORIGINAL-URL:https://bordtennisdanmark.dk
X-WR-CALDESC:Begivenheder for Bordtennis Danmark
REFRESH-INTERVAL;VALUE=DURATION:PT1H
X-Robots-Tag:noindex
X-PUBLISHED-TTL:PT1H
BEGIN:VTIMEZONE
TZID:UTC
BEGIN:STANDARD
TZOFFSETFROM:+0000
TZOFFSETTO:+0000
TZNAME:UTC
DTSTART:20240101T000000
END:STANDARD
END:VTIMEZONE
BEGIN:VEVENT
DTSTART;TZID=UTC:20240128T100000
DTEND;TZID=UTC:20240128T140000
DTSTAMP:20260423T220545
CREATED:20231227T124821Z
LAST-MODIFIED:20231227T124958Z
UID:95489-1706436000-1706450400@bordtennisdanmark.dk
SUMMARY:Ungdomsstævne 5 - Kreds 4 - Greve BTK
DESCRIPTION:Dato: 28. januar 2024\, kl. 10:00 – mødetid kl. 09:30 \n  \nSpillested: Greve BTK \n  \nDeltagerpris: Kr. 30\,00 + tilmeldingsgebyr kr. 13\,00. \n  \nTilmelding skal ske til Preben Larsen\, preben@greve-btk.dk
URL:https://bordtennisdanmark.dk/kalender/ungdomsstaevne-5-kreds-4-greve-btk/
CATEGORIES:13 - Ungdomsstævner
ATTACH;FMTTYPE=image/jpeg:https://bordtennisdanmark.dk/wp-content/uploads/2022/10/Ungdomsstaevne.jpg
END:VEVENT
END:VCALENDAR