BEGIN:VCALENDAR
VERSION:2.0
PRODID:-//Bordtennis Danmark - ECPv6.9.0//NONSGML v1.0//EN
CALSCALE:GREGORIAN
METHOD:PUBLISH
X-ORIGINAL-URL:https://bordtennisdanmark.dk
X-WR-CALDESC:Begivenheder for Bordtennis Danmark
REFRESH-INTERVAL;VALUE=DURATION:PT1H
X-Robots-Tag:noindex
X-PUBLISHED-TTL:PT1H
BEGIN:VTIMEZONE
TZID:UTC
BEGIN:STANDARD
TZOFFSETFROM:+0000
TZOFFSETTO:+0000
TZNAME:UTC
DTSTART:20240101T000000
END:STANDARD
END:VTIMEZONE
BEGIN:VEVENT
DTSTART;TZID=UTC:20240929T123000
DTEND;TZID=UTC:20240929T153000
DTSTAMP:20260421T062801
CREATED:20240919T110901Z
LAST-MODIFIED:20240925T082210Z
UID:101577-1727613000-1727623800@bordtennisdanmark.dk
SUMMARY:Ungdomsstævne 1\, Kreds 5\, Lejre Bordtennis
DESCRIPTION:Ungdomsstævnerne henvender sig primært til ungdomsspillere\, som er parate til at deltage i rigtige bordtennisstævner med kampe bedst á 3 eller 5 sæt. \nStævnerne er nye spilleres første møde med et rigtigt bordtennisstævne\, hvorfor det primære fokus vil være på at\nlære at være til stævne\, hvordan du opfører dig\, fairplay\, god sportsånd mm. Man vil på dagen danne puljer á 5-8 spillere på baggrund af spillernes rating/niveau. Resultaterne vil i disse stævner blive registreret på Bordtennisportalen. Være opmærksom på\, at der kræves spillerlicens for at deltage i disse stævner. \nBordtennis Danmark uddeler guld-\, sølv- og bronzemedalje til podiet i hver slutspilspulje ved hvert Ungdomsstævne. \n  \nOBS: Mødetid kl. 12:00 \n  \nEfter tilmeldingsfristen: Kontakt Mads Richard (mads@madsrichard.dk) om mulighed for eftertilmelding.
URL:https://bordtennisdanmark.dk/kalender/ungdomsstaevne-1-kreds-5-lejre-bordtennis/
LOCATION:Lejrehallen\, Bispegårdsvej 2\, Lejre\, 4320\, Danmark
CATEGORIES:13 - Ungdomsstævner
ATTACH;FMTTYPE=image/jpeg:https://bordtennisdanmark.dk/wp-content/uploads/2022/10/Ungdomsstaevne.jpg
ORGANIZER;CN="Bordtennis Danmark":MAILTO:btdk@bordtennisdanmark.dk
END:VEVENT
END:VCALENDAR