BEGIN:VCALENDAR
VERSION:2.0
PRODID:-//Bordtennis Danmark - ECPv6.9.0//NONSGML v1.0//EN
CALSCALE:GREGORIAN
METHOD:PUBLISH
X-ORIGINAL-URL:https://bordtennisdanmark.dk
X-WR-CALDESC:Begivenheder for Bordtennis Danmark
REFRESH-INTERVAL;VALUE=DURATION:PT1H
X-Robots-Tag:noindex
X-PUBLISHED-TTL:PT1H
BEGIN:VTIMEZONE
TZID:UTC
BEGIN:STANDARD
TZOFFSETFROM:+0000
TZOFFSETTO:+0000
TZNAME:UTC
DTSTART:20240101T000000
END:STANDARD
END:VTIMEZONE
BEGIN:VEVENT
DTSTART;TZID=UTC:20241123T100000
DTEND;TZID=UTC:20241123T130000
DTSTAMP:20260421T031825
CREATED:20240909T101219Z
LAST-MODIFIED:20241105T121942Z
UID:101230-1732356000-1732366800@bordtennisdanmark.dk
SUMMARY:Ungdomsstævne 2\, Kreds 1\, Allerød Bordtennisklub
DESCRIPTION:Kredsen har fra sæsonens start besluttet at lægge Bordtennis Danmarks Begynderstævne og Ungdomsstævne koncepter sammen i ét stævne\, så ALLE helt nye og let-øvede spillere kan være med. Stævnet afvikles med udgangspunkt i Bordtennis Danmarks Ungdomsstævnekoncept. Bemærk at ungdomsspillere fra denne sæson skal have indløst en spillerlicens\, inden de kan deltage i et ungdomsstævne. \nUngdomsstævnerne henvender sig primært til ungdomsspillere\, som er parate til at deltage i rigtige bordtennisstævner med kampe bedst á 3 eller 5 sæt. \nStævnerne er nye spilleres første møde med et rigtigt bordtennisstævne\, hvorfor det primære fokus vil være på at\nlære at være til stævne\, hvordan du opfører dig\, fairplay\, god sportsånd mm. Man vil på dagen danne puljer á 5-8 spillere på baggrund af spillernes rating/niveau. Resultaterne vil i disse stævner blive registreret på Bordtennisportalen. \nBordtennis Danmark uddeler guld-\, sølv- og bronzemedalje til podiet i hver slutspilspulje ved hvert Ungdomsstævne. Da Begynder- og Ungdomsstævner i Kreds 1 er lagt sammen\, modtager ALLE øvrige også en anerkendelse fra BTDK. \n  \nOBS: Mødetid kl. 09.30
URL:https://bordtennisdanmark.dk/kalender/ungdomsstaevne-2-kreds-1-alleroed-bordtennisklub/
LOCATION:Lillerødhallerne\, Banevang 7\, Lillerød\, 3450\, Danmark
CATEGORIES:13 - Ungdomsstævner
ATTACH;FMTTYPE=image/jpeg:https://bordtennisdanmark.dk/wp-content/uploads/2022/10/Ungdomsstaevne.jpg
ORGANIZER;CN="Bordtennis Danmark":MAILTO:btdk@bordtennisdanmark.dk
END:VEVENT
END:VCALENDAR