BEGIN:VCALENDAR
VERSION:2.0
PRODID:-//Bordtennis Danmark - ECPv6.9.0//NONSGML v1.0//EN
CALSCALE:GREGORIAN
METHOD:PUBLISH
X-WR-CALNAME:Bordtennis Danmark
X-ORIGINAL-URL:https://bordtennisdanmark.dk
X-WR-CALDESC:Begivenheder for Bordtennis Danmark
REFRESH-INTERVAL;VALUE=DURATION:PT1H
X-Robots-Tag:noindex
X-PUBLISHED-TTL:PT1H
BEGIN:VTIMEZONE
TZID:UTC
BEGIN:STANDARD
TZOFFSETFROM:+0000
TZOFFSETTO:+0000
TZNAME:UTC
DTSTART:20250101T000000
END:STANDARD
END:VTIMEZONE
BEGIN:VEVENT
DTSTART;TZID=UTC:20250223T090000
DTEND;TZID=UTC:20250223T140000
DTSTAMP:20260420T223023
CREATED:20241003T132119Z
LAST-MODIFIED:20250130T130431Z
UID:101898-1740301200-1740319200@bordtennisdanmark.dk
SUMMARY:Ungdomsstævne 3\, Kreds 3\, Hvidovre Bordtennis
DESCRIPTION:Ungdomsstævnerne henvender sig primært til ungdomsspillere\, som er parate til at deltage i rigtige bordtennisstævner med kampe bedst á 3 eller 5 sæt. \nStævnerne er nye spilleres første møde med et rigtigt bordtennisstævne\, hvorfor det primære fokus vil være på at\nlære at være til stævne\, hvordan du opfører dig\, fairplay\, god sportsånd mm. Man vil på dagen danne puljer á 5-8 spillere på baggrund af spillernes rating/niveau. Resultaterne vil i disse stævner blive registreret på Bordtennisportalen. Være opmærksom på\, at der kræves spillerlicens for at deltage i disse stævner. \nBordtennis Danmark uddeler guld-\, sølv- og bronzemedalje til podiet i hver slutspilspulje ved hvert Ungdomsstævne. \n  \nOBS: Mødetid senest kl. 08:30
URL:https://bordtennisdanmark.dk/kalender/ungdomsstaevne-3-kreds-3-hvidovre-bordtennis/
LOCATION:Dansborghallen\, Sollentuna Alle 2\, Hvidovre\, Sjælland\, 2650\, Danmark
CATEGORIES:13 - Ungdomsstævner
ATTACH;FMTTYPE=image/png:https://bordtennisdanmark.dk/wp-content/uploads/2025/01/Ungdomsstaevne.png
ORGANIZER;CN="Bordtennis Danmark":MAILTO:btdk@bordtennisdanmark.dk
END:VEVENT
BEGIN:VEVENT
DTSTART;TZID=UTC:20250223T123000
DTEND;TZID=UTC:20250223T153000
DTSTAMP:20260420T223023
CREATED:20250204T130650Z
LAST-MODIFIED:20250204T131102Z
UID:104195-1740313800-1740324600@bordtennisdanmark.dk
SUMMARY:Ungdomsstævne 5\, Kreds 5\, Lejre Bordtennis
DESCRIPTION:Ungdomsstævnerne henvender sig primært til ungdomsspillere\, som er parate til at deltage i rigtige bordtennisstævner med kampe bedst á 3 eller 5 sæt. \nStævnerne er nye spilleres første møde med et rigtigt bordtennisstævne\, hvorfor det primære fokus vil være på at\nlære at være til stævne\, hvordan du opfører dig\, fairplay\, god sportsånd mm. Man vil på dagen danne puljer á 5-8 spillere på baggrund af spillernes rating/niveau. Resultaterne vil i disse stævner blive registreret på Bordtennisportalen. Være opmærksom på\, at der kræves spillerlicens for at deltage i disse stævner. \nBordtennis Danmark uddeler guld-\, sølv- og bronzemedalje til podiet i hver slutspilspulje ved hvert Ungdomsstævne. \n  \nOBS: Mødetid kl. 12:00
URL:https://bordtennisdanmark.dk/kalender/ungdomsstaevne-5-kreds-5-lejre-bordtennis/
LOCATION:Lejrehallen\, Bispegårdsvej 2\, Lejre\, 4320\, Danmark
CATEGORIES:13 - Ungdomsstævner
ATTACH;FMTTYPE=image/png:https://bordtennisdanmark.dk/wp-content/uploads/2025/01/Ungdomsstaevne.png
ORGANIZER;CN="Bordtennis Danmark":MAILTO:btdk@bordtennisdanmark.dk
END:VEVENT
END:VCALENDAR