BEGIN:VCALENDAR
VERSION:2.0
PRODID:-//Bordtennis Danmark - ECPv6.9.0//NONSGML v1.0//EN
CALSCALE:GREGORIAN
METHOD:PUBLISH
X-ORIGINAL-URL:https://bordtennisdanmark.dk
X-WR-CALDESC:Begivenheder for Bordtennis Danmark
REFRESH-INTERVAL;VALUE=DURATION:PT1H
X-Robots-Tag:noindex
X-PUBLISHED-TTL:PT1H
BEGIN:VTIMEZONE
TZID:UTC
BEGIN:STANDARD
TZOFFSETFROM:+0000
TZOFFSETTO:+0000
TZNAME:UTC
DTSTART:20250101T000000
END:STANDARD
END:VTIMEZONE
BEGIN:VEVENT
DTSTART;TZID=UTC:20250323T090000
DTEND;TZID=UTC:20250323T150000
DTSTAMP:20260421T170243
CREATED:20250210T071628Z
LAST-MODIFIED:20250222T173229Z
UID:104263-1742720400-1742742000@bordtennisdanmark.dk
SUMMARY:Ungdomssamling i HEP Ringe
DESCRIPTION:LÆS INVITATIONEN HER\n  \nEn spændende træningsdag for spillere i alderen 7-17 år. \nFormålet med samlingen er at deltagerne forbedrer deres spil og får mulighed for at træne med andre ungdomsspillere på tværs af klubberne. \nTrænerteam: Malthe Skov Jørgensen\, Markus Munk\, Luka Dardic-Jahn.
URL:https://bordtennisdanmark.dk/kalender/ungdomssamling-i-hep-ringe/
LOCATION:Idrætscenter Midtfyn\, Søvej 34\, Ringe\, 5750\, Danmark
CATEGORIES:5 - Træningslejre, camps & festivaler
ATTACH;FMTTYPE=image/jpeg:https://bordtennisdanmark.dk/wp-content/uploads/2025/02/HEP-Ringe-1.jpg
END:VEVENT
END:VCALENDAR