BEGIN:VCALENDAR
VERSION:2.0
PRODID:-//Bordtennis Danmark - ECPv6.9.0//NONSGML v1.0//EN
CALSCALE:GREGORIAN
METHOD:PUBLISH
X-WR-CALNAME:Bordtennis Danmark
X-ORIGINAL-URL:https://bordtennisdanmark.dk
X-WR-CALDESC:Begivenheder for Bordtennis Danmark
REFRESH-INTERVAL;VALUE=DURATION:PT1H
X-Robots-Tag:noindex
X-PUBLISHED-TTL:PT1H
BEGIN:VTIMEZONE
TZID:UTC
BEGIN:STANDARD
TZOFFSETFROM:+0000
TZOFFSETTO:+0000
TZNAME:UTC
DTSTART:20250101T000000
END:STANDARD
END:VTIMEZONE
BEGIN:VEVENT
DTSTART;TZID=UTC:20250210T090000
DTEND;TZID=UTC:20250213T150000
DTSTAMP:20260421T214201
CREATED:20250103T142620Z
LAST-MODIFIED:20250109T115328Z
UID:103257-1739178000-1739458800@bordtennisdanmark.dk
SUMMARY:Camp i vinterferien
DESCRIPTION:CPH – Bordtennis invitere alle børn uanset aldre og niveau til lejr i remisen på Østerbro.
URL:https://bordtennisdanmark.dk/kalender/camp-i-vinterferien/
LOCATION:Sjælland
CATEGORIES:5 - Træningslejre, camps & festivaler
END:VEVENT
END:VCALENDAR