BEGIN:VCALENDAR
VERSION:2.0
PRODID:-//Bordtennis Danmark - ECPv6.9.0//NONSGML v1.0//EN
CALSCALE:GREGORIAN
METHOD:PUBLISH
X-WR-CALNAME:Bordtennis Danmark
X-ORIGINAL-URL:https://bordtennisdanmark.dk
X-WR-CALDESC:Begivenheder for Bordtennis Danmark
REFRESH-INTERVAL;VALUE=DURATION:PT1H
X-Robots-Tag:noindex
X-PUBLISHED-TTL:PT1H
BEGIN:VTIMEZONE
TZID:UTC
BEGIN:STANDARD
TZOFFSETFROM:+0000
TZOFFSETTO:+0000
TZNAME:UTC
DTSTART:20250101T000000
END:STANDARD
END:VTIMEZONE
BEGIN:VEVENT
DTSTART;TZID=UTC:20250629T140000
DTEND;TZID=UTC:20250704T140000
DTSTAMP:20260421T132422
CREATED:20250526T082102Z
LAST-MODIFIED:20250606T110912Z
UID:106421-1751205600-1751637600@bordtennisdanmark.dk
SUMMARY:Andro Sommerlejr
DESCRIPTION:Andro sommerlejr er en bordtennislejr\, hvor alle kan komme med uanset alder og niveau. Bordtennis er i centrum\, men det hele går ud på at give deltagerne en god oplevelse 🙂
URL:https://bordtennisdanmark.dk/kalender/andro-sommerlejr/
CATEGORIES:5 - Træningslejre, camps & festivaler
END:VEVENT
END:VCALENDAR