BEGIN:VCALENDAR
VERSION:2.0
PRODID:-//Bordtennis Danmark - ECPv6.9.0//NONSGML v1.0//EN
CALSCALE:GREGORIAN
METHOD:PUBLISH
X-WR-CALNAME:Bordtennis Danmark
X-ORIGINAL-URL:https://bordtennisdanmark.dk
X-WR-CALDESC:Begivenheder for Bordtennis Danmark
REFRESH-INTERVAL;VALUE=DURATION:PT1H
X-Robots-Tag:noindex
X-PUBLISHED-TTL:PT1H
BEGIN:VTIMEZONE
TZID:UTC
BEGIN:STANDARD
TZOFFSETFROM:+0000
TZOFFSETTO:+0000
TZNAME:UTC
DTSTART:20260101T000000
END:STANDARD
END:VTIMEZONE
BEGIN:VEVENT
DTSTART;TZID=UTC:20260703T080000
DTEND;TZID=UTC:20260705T170000
DTSTAMP:20260420T181955
CREATED:20260112T130621Z
LAST-MODIFIED:20260112T130621Z
UID:110801-1783065600-1783270800@bordtennisdanmark.dk
SUMMARY:UEM-lejr for U19 herrer
DESCRIPTION:Op til UEM afvikles der en træningslejr for U19 herrer i Brøndby.
URL:https://bordtennisdanmark.dk/kalender/uem-lejr-for-u19-herrer/
LOCATION:Idrættens Hus\, Brøndby\, Brøndby Stadion 20\, Brøndby\, Sjælland\, 2605\, Danmark
CATEGORIES:11 – Ungdomslandsholdet,5 - Træningslejre, camps & festivaler,6 - Landshold & internationalt
END:VEVENT
END:VCALENDAR