BEGIN:VCALENDAR
VERSION:2.0
PRODID:-//Bordtennis Danmark - ECPv6.9.0//NONSGML v1.0//EN
CALSCALE:GREGORIAN
METHOD:PUBLISH
X-WR-CALNAME:Bordtennis Danmark
X-ORIGINAL-URL:https://bordtennisdanmark.dk
X-WR-CALDESC:Begivenheder for Bordtennis Danmark
REFRESH-INTERVAL;VALUE=DURATION:PT1H
X-Robots-Tag:noindex
X-PUBLISHED-TTL:PT1H
BEGIN:VTIMEZONE
TZID:UTC
BEGIN:STANDARD
TZOFFSETFROM:+0000
TZOFFSETTO:+0000
TZNAME:UTC
DTSTART:20220101T000000
END:STANDARD
END:VTIMEZONE
BEGIN:VEVENT
DTSTART;VALUE=DATE:20221103
DTEND;VALUE=DATE:20221107
DTSTAMP:20260420T091330
CREATED:20220826T135759Z
LAST-MODIFIED:20220829T124432Z
UID:86034-1667433600-1667779199@bordtennisdanmark.dk
SUMMARY:Ungdomslandshold: Sweden Tour Ängby International 2022
DESCRIPTION:Stævne i Stockholm hvor BTDK sender en drengetrup\, en damejuniortrup og en pigetrup.
URL:https://bordtennisdanmark.dk/kalender/sweden-tour-angby-international-2022/
CATEGORIES:1 - Stævner,6 - Landshold & internationalt
ATTACH;FMTTYPE=image/png:https://bordtennisdanmark.dk/wp-content/uploads/2022/08/Sweden-Tour.png
END:VEVENT
BEGIN:VEVENT
DTSTART;VALUE=DATE:20221107
DTEND;VALUE=DATE:20221112
DTSTAMP:20260420T091330
CREATED:20220921T081903Z
LAST-MODIFIED:20220921T081903Z
UID:87074-1667779200-1668211199@bordtennisdanmark.dk
SUMMARY:Ungdomslandshold: Studietur for herrejuniorerne
DESCRIPTION:– Datoerne er foreløbige og kan ændres.
URL:https://bordtennisdanmark.dk/kalender/ungdomslandshold-studietur-for-herrejuniorerne/
CATEGORIES:(Alle),6 - Landshold & internationalt
ATTACH;FMTTYPE=image/png:https://bordtennisdanmark.dk/wp-content/uploads/2022/03/Ungdomslandshold.png
END:VEVENT
BEGIN:VEVENT
DTSTART;VALUE=DATE:20221117
DTEND;VALUE=DATE:20221121
DTSTAMP:20260420T091330
CREATED:20220826T140147Z
LAST-MODIFIED:20221026T121501Z
UID:86035-1668643200-1668988799@bordtennisdanmark.dk
SUMMARY:Ungdomslandshold: Weekendlejr
DESCRIPTION:Lejr for pige- og damejuniorlandsholdet. Spillere fra Norge deltager også.
URL:https://bordtennisdanmark.dk/kalender/ungdomslandshold-weekendlejr-2/
CATEGORIES:5 - Træningslejre, camps & festivaler,6 - Landshold & internationalt
ATTACH;FMTTYPE=image/png:https://bordtennisdanmark.dk/wp-content/uploads/2022/03/Ungdomslandshold.png
ORGANIZER;CN="Bordtennis Danmark":MAILTO:btdk@bordtennisdanmark.dk
END:VEVENT
BEGIN:VEVENT
DTSTART;VALUE=DATE:20221119
DTEND;VALUE=DATE:20221121
DTSTAMP:20260420T091330
CREATED:20220826T140338Z
LAST-MODIFIED:20221031T102509Z
UID:86036-1668816000-1668988799@bordtennisdanmark.dk
SUMMARY:Ungdomslandshold: Weekendlejr
DESCRIPTION:Lejr for drengelandsholdsspillere. \nOBS: Lokationen er ændret til Amagerhallen på Løjtegårdsvej 64\, 2770 Kastrup
URL:https://bordtennisdanmark.dk/kalender/ungdomslandshold-weekendlejr-3/
CATEGORIES:5 - Træningslejre, camps & festivaler,6 - Landshold & internationalt
ATTACH;FMTTYPE=image/png:https://bordtennisdanmark.dk/wp-content/uploads/2022/03/Ungdomslandshold.png
ORGANIZER;CN="Bordtennis Danmark":MAILTO:btdk@bordtennisdanmark.dk
END:VEVENT
END:VCALENDAR