BEGIN:VCALENDAR
VERSION:2.0
PRODID:-//Bordtennis Danmark - ECPv6.9.0//NONSGML v1.0//EN
CALSCALE:GREGORIAN
METHOD:PUBLISH
X-ORIGINAL-URL:https://bordtennisdanmark.dk
X-WR-CALDESC:Begivenheder for Bordtennis Danmark
REFRESH-INTERVAL;VALUE=DURATION:PT1H
X-Robots-Tag:noindex
X-PUBLISHED-TTL:PT1H
BEGIN:VTIMEZONE
TZID:UTC
BEGIN:STANDARD
TZOFFSETFROM:+0000
TZOFFSETTO:+0000
TZNAME:UTC
DTSTART:20230101T000000
END:STANDARD
END:VTIMEZONE
BEGIN:VEVENT
DTSTART;VALUE=DATE:20230210
DTEND;VALUE=DATE:20230213
DTSTAMP:20260420T040529
CREATED:20230206T113227Z
LAST-MODIFIED:20230206T113227Z
UID:90005-1675987200-1676246399@bordtennisdanmark.dk
SUMMARY:Ungdomslandsholdet: Sweden Tour Eslövs Internationella for drenge og U21 damer
DESCRIPTION:
URL:https://bordtennisdanmark.dk/kalender/ungdomslandsholdet-sweden-tour-eslovs-internationella-for-drenge-og-u21-damer/
CATEGORIES:(Alle),6 - Landshold & internationalt
ATTACH;FMTTYPE=image/jpeg:https://bordtennisdanmark.dk/wp-content/uploads/2022/10/Ungdomslandshold.jpg
END:VEVENT
BEGIN:VEVENT
DTSTART;VALUE=DATE:20230213
DTEND;VALUE=DATE:20230216
DTSTAMP:20260420T040529
CREATED:20230206T113715Z
LAST-MODIFIED:20230206T135547Z
UID:90008-1676246400-1676505599@bordtennisdanmark.dk
SUMMARY:Ungdomslandsholdet: Lejr for U21 damer
DESCRIPTION:Du finder invitationen nedenfor.
URL:https://bordtennisdanmark.dk/kalender/ungdomslandsholdet-lejr-for-u21-damer/
CATEGORIES:(Alle),6 - Landshold & internationalt
ATTACH;FMTTYPE=image/jpeg:https://bordtennisdanmark.dk/wp-content/uploads/2022/10/Ungdomslandshold.jpg
END:VEVENT
BEGIN:VEVENT
DTSTART;VALUE=DATE:20230213
DTEND;VALUE=DATE:20230216
DTSTAMP:20260420T040529
CREATED:20230206T114618Z
LAST-MODIFIED:20230206T135637Z
UID:90011-1676246400-1676505599@bordtennisdanmark.dk
SUMMARY:Ungdomslandsholdet: Lejr for drenge
DESCRIPTION:Du finder invitationen nedenfor.
URL:https://bordtennisdanmark.dk/kalender/ungdomslandsholdet-lejr-for-drenge/
CATEGORIES:(Alle),6 - Landshold & internationalt
ATTACH;FMTTYPE=image/jpeg:https://bordtennisdanmark.dk/wp-content/uploads/2022/10/Ungdomslandshold.jpg
END:VEVENT
BEGIN:VEVENT
DTSTART;VALUE=DATE:20230217
DTEND;VALUE=DATE:20230220
DTSTAMP:20260420T040529
CREATED:20230206T115008Z
LAST-MODIFIED:20230206T135704Z
UID:90014-1676592000-1676851199@bordtennisdanmark.dk
SUMMARY:AFLYST - Ungdomslandsholdet: Lejr for pigespillere
DESCRIPTION:Du finder invitationen nedenfor.
URL:https://bordtennisdanmark.dk/kalender/aflyst-ungdomslandsholdet-lejr-for-pigespillere/
CATEGORIES:(Alle),6 - Landshold & internationalt
ATTACH;FMTTYPE=image/jpeg:https://bordtennisdanmark.dk/wp-content/uploads/2022/10/Ungdomslandshold.jpg
END:VEVENT
END:VCALENDAR