BEGIN:VCALENDAR
VERSION:2.0
PRODID:-//Bordtennis Danmark - ECPv6.9.0//NONSGML v1.0//EN
CALSCALE:GREGORIAN
METHOD:PUBLISH
X-WR-CALNAME:Bordtennis Danmark
X-ORIGINAL-URL:https://bordtennisdanmark.dk
X-WR-CALDESC:Begivenheder for Bordtennis Danmark
REFRESH-INTERVAL;VALUE=DURATION:PT1H
X-Robots-Tag:noindex
X-PUBLISHED-TTL:PT1H
BEGIN:VTIMEZONE
TZID:UTC
BEGIN:STANDARD
TZOFFSETFROM:+0000
TZOFFSETTO:+0000
TZNAME:UTC
DTSTART:20230101T000000
END:STANDARD
END:VTIMEZONE
BEGIN:VEVENT
DTSTART;VALUE=DATE:20230403
DTEND;VALUE=DATE:20230405
DTSTAMP:20260420T002942
CREATED:20230206T120951Z
LAST-MODIFIED:20230206T120951Z
UID:90022-1680480000-1680652799@bordtennisdanmark.dk
SUMMARY:Ungdomslandsholdet: Påskelejr for pige- og drengespillere samt herrejuniorer
DESCRIPTION:Flere informationer kommer
URL:https://bordtennisdanmark.dk/kalender/ungdomslandsholdet-paaskelejr-for-pige-og-drengespillere-samt-herrejuniorer/
CATEGORIES:(Alle),6 - Landshold & internationalt
ATTACH;FMTTYPE=image/jpeg:https://bordtennisdanmark.dk/wp-content/uploads/2022/10/Ungdomslandshold.jpg
END:VEVENT
BEGIN:VEVENT
DTSTART;VALUE=DATE:20230407
DTEND;VALUE=DATE:20230411
DTSTAMP:20260420T002942
CREATED:20230206T121059Z
LAST-MODIFIED:20230316T081810Z
UID:90024-1680825600-1681171199@bordtennisdanmark.dk
SUMMARY:Ungdomslandsholdet: Påskelejr for U21 damer
DESCRIPTION:BTDK afholder i samarbejde med det svenske bordtennisforbund en landsholdslejr mellem d. 7. og 10. april.
URL:https://bordtennisdanmark.dk/kalender/ungdomslandsholdet-paaskelejr-for-u21-damer/
CATEGORIES:(Alle),6 - Landshold & internationalt
ATTACH;FMTTYPE=image/jpeg:https://bordtennisdanmark.dk/wp-content/uploads/2022/10/Ungdomslandshold.jpg
END:VEVENT
BEGIN:VEVENT
DTSTART;VALUE=DATE:20230415
DTEND;VALUE=DATE:20230416
DTSTAMP:20260420T002942
CREATED:20230206T121308Z
LAST-MODIFIED:20230222T142402Z
UID:90026-1681516800-1681603199@bordtennisdanmark.dk
SUMMARY:Ungdomslandsholdet: UEM-kval for herrejuniorer
DESCRIPTION:Lørdag d. 15. april 2023 afholder BTDK en kvalturnering for herrejunior. Vinderen af turneringen er kvalificeret til at deltage i UEM 2023 i hold\, single og double. Turneringen starter kl. 10 om lørdagen\, og bliver afgjort samme dag.
URL:https://bordtennisdanmark.dk/kalender/ungdomslandsholdet-uem-kval-for-herrejuniorer/
CATEGORIES:(Alle),6 - Landshold & internationalt
ATTACH;FMTTYPE=image/jpeg:https://bordtennisdanmark.dk/wp-content/uploads/2022/10/Ungdomslandshold.jpg
END:VEVENT
BEGIN:VEVENT
DTSTART;VALUE=DATE:20230422
DTEND;VALUE=DATE:20230423
DTSTAMP:20260420T002942
CREATED:20230206T121420Z
LAST-MODIFIED:20230316T081558Z
UID:90028-1682121600-1682207999@bordtennisdanmark.dk
SUMMARY:Ungdomslandsholdet: UEM-kval for damejuniorer og WTT-kval for drengespillere
DESCRIPTION:Lørdag d. 22. april afholder BTDK en kombineret WTT- og UEM-kval\, hvor en gruppe damejuniorer spiller om en UEM-plads og en gruppe drengespillere spiller om en WTT-plads til WTT Youth Contender i Helsingborg d. 8.-11. juni.
URL:https://bordtennisdanmark.dk/kalender/ungdomslandsholdet-uem-kval-for-damejuniorer-og-wtt-kval-for-drengespillere/
CATEGORIES:(Alle),6 - Landshold & internationalt
ATTACH;FMTTYPE=image/jpeg:https://bordtennisdanmark.dk/wp-content/uploads/2022/10/Ungdomslandshold.jpg
END:VEVENT
END:VCALENDAR