BEGIN:VCALENDAR
VERSION:2.0
PRODID:-//Bordtennis Danmark - ECPv6.9.0//NONSGML v1.0//EN
CALSCALE:GREGORIAN
METHOD:PUBLISH
X-WR-CALNAME:Bordtennis Danmark
X-ORIGINAL-URL:https://bordtennisdanmark.dk
X-WR-CALDESC:Begivenheder for Bordtennis Danmark
REFRESH-INTERVAL;VALUE=DURATION:PT1H
X-Robots-Tag:noindex
X-PUBLISHED-TTL:PT1H
BEGIN:VTIMEZONE
TZID:UTC
BEGIN:STANDARD
TZOFFSETFROM:+0000
TZOFFSETTO:+0000
TZNAME:UTC
DTSTART:20230101T000000
END:STANDARD
END:VTIMEZONE
BEGIN:VEVENT
DTSTART;VALUE=DATE:20230617
DTEND;VALUE=DATE:20230618
DTSTAMP:20260422T073711
CREATED:20220203T135500Z
LAST-MODIFIED:20230404T165645Z
UID:82260-1686960000-1687046399@bordtennisdanmark.dk
SUMMARY:DM i Ping Pong
DESCRIPTION:Hørning Bordtennisklub\, i samarbejde med Bordtennis Danmark og DGI\, indbyder til det 9. DANSKE MESTERSKABER I PING PONG 2023 (bordtennis på lige vilkår med sandpapirsbat) samt efterfølgende FEST OM AFTENEN lørdag 17. juni i Hørning Idrætscenter. Uanset om du er ungdomsspiller\, seniorspiller\, veteranspiller eller aldrig har prøvet Ping Pong/bordtennis før\, så kan du stille op (ALLE kan deltage uanset alder\, køn\, niveau eller licens)1. Eventet er før sommerferien og som noget af det sidste af indeværende bordtennissæson\, da det ligger i uge 24. Der er lagt op til en masse fede kampe på lige vilkår i sandpapirsdisciplinen med stemningsmusik og/eller et brag af en fest om aftenen\, som alt sammen fås til en overkommelig pris. \n  \nDu kan finde alle informationer om arrangementet her \n 
URL:https://bordtennisdanmark.dk/kalender/dm-i-ping-pong/
LOCATION:Hørning Idrætscenter\, Toftevej 53\, Hørning\, Jylland\, 8362\, Danmark
CATEGORIES:(Alle),3 - Mesterskaber
ATTACH;FMTTYPE=image/png:https://bordtennisdanmark.dk/wp-content/uploads/2021/07/DM-2.png
END:VEVENT
BEGIN:VEVENT
DTSTART;VALUE=DATE:20230621
DTEND;VALUE=DATE:20230703
DTSTAMP:20260422T073711
CREATED:20230515T065219Z
LAST-MODIFIED:20230515T065219Z
UID:91148-1687305600-1688342399@bordtennisdanmark.dk
SUMMARY:European Games 2023
DESCRIPTION:Onsdag den 21. juni til sørdag den 2. juli 2023 afholdes European Games i Krakow\, Polen.\nNærmere information fås gennem dette link:https://www.european-games.org/ 
URL:https://bordtennisdanmark.dk/kalender/european-games-2023/
LOCATION:Sjælland
CATEGORIES:3 - Mesterskaber
ATTACH;FMTTYPE=image/png:https://bordtennisdanmark.dk/wp-content/uploads/2023/05/Design-uden-navn-678x381-1.png
END:VEVENT
END:VCALENDAR