BEGIN:VCALENDAR
VERSION:2.0
PRODID:-//Bordtennis Danmark - ECPv6.9.0//NONSGML v1.0//EN
CALSCALE:GREGORIAN
METHOD:PUBLISH
X-ORIGINAL-URL:https://bordtennisdanmark.dk
X-WR-CALDESC:Begivenheder for Bordtennis Danmark
REFRESH-INTERVAL;VALUE=DURATION:PT1H
X-Robots-Tag:noindex
X-PUBLISHED-TTL:PT1H
BEGIN:VTIMEZONE
TZID:UTC
BEGIN:STANDARD
TZOFFSETFROM:+0000
TZOFFSETTO:+0000
TZNAME:UTC
DTSTART:20250101T000000
END:STANDARD
END:VTIMEZONE
BEGIN:VEVENT
DTSTART;VALUE=DATE:20251108
DTEND;VALUE=DATE:20251110
DTSTAMP:20260425T034929
CREATED:20240129T090533Z
LAST-MODIFIED:20251001T181346Z
UID:96480-1762560000-1762732799@bordtennisdanmark.dk
SUMMARY:Bordtennisfestival 2025
DESCRIPTION:Kom til Årets Bordtennisfestival i Dalmose!\nDen 8.–9. november 2025Dalmose Idræts- og Kulturcenter \nEr du klar til en weekend fyldt med fart\, fællesskab og fantastiske oplevelser? Så må du ikke gå glip af årets helt store bordtennisbegivenhed i Dalmose! \n \nDM i Rating – Bordtennis for alle\nUanset om du er nybegynder eller erfaren spiller\, ung eller gammel\, mand eller kvinde – DM i Rating er for dig. Her betyder alder og køn ingenting – det er dit ratingtal\, der afgør\, hvem du møder. Det giver spændende og jævnbyrdige kampe\, hvor alle er sikret masser af spil. \nOg som ekstra bonus: Deltager du i en single-række\, får du gratis adgang til en hyggelig doublerække lørdag aften! \nLæs invitationen her \n \nJuniortræneruddannelse\nDrømmer du om at inspirere andre og dele din passion for bordtennis? På festivalen kan du tage det første skridt som juniortræner. Her får du værdifuld viden fra erfarne trænere\, lærer at lede\, motivere og bliver klædt på til at være en rollemodel for næste generation. \nLæs invitationen her \n \nDommerkursus\nVil du prøve kræfter med dommergerningen? Så er dette din chance! I samarbejde med BTDK tilbyder vi et dommerkursus\, hvor du får indblik i regler\, fair play og dommerens vigtige rolle. Perfekt for dig\, der overvejer en fremtid som bordtennisdommer. \n \n\n \nEn weekend du ikke vil gå glip af\nBordtennisfestivalen er mere end bare et stævne – det er en fejring af sporten\, fællesskabet og glæden ved at spille.Tag dine klubkammerater med\, udfordr dig selv\, og bliv en del af en uforglemmelig bordtennisfest i Dalmose! \nTilmeld dig allerede i dag og vær med til at skabe årets fedeste bordtennisoplevelse!🏓
URL:https://bordtennisdanmark.dk/kalender/bordtennisfestival2025/
LOCATION:Dalmose Idræts- & Kulturcenter\, Stationsvej 53\, Dalmose\, 4261\, Denmark
CATEGORIES:(Alle),5 - Træningslejre, camps & festivaler
ATTACH;FMTTYPE=image/png:https://bordtennisdanmark.dk/wp-content/uploads/2025/01/Bordtennis-Festival.png
ORGANIZER;CN="Bordtennis Danmark":MAILTO:btdk@bordtennisdanmark.dk
END:VEVENT
END:VCALENDAR